BEGIN:VCALENDAR
VERSION:2.0
PRODID:-//PaTRAM™ - ECPv6.0.10//NONSGML v1.0//EN
CALSCALE:GREGORIAN
METHOD:PUBLISH
X-ORIGINAL-URL:https://patraminstitute.org
X-WR-CALDESC:Events for PaTRAM™
REFRESH-INTERVAL;VALUE=DURATION:PT1H
X-Robots-Tag:noindex
X-PUBLISHED-TTL:PT1H
BEGIN:VTIMEZONE
TZID:America/New_York
BEGIN:DAYLIGHT
TZOFFSETFROM:-0500
TZOFFSETTO:-0400
TZNAME:EDT
DTSTART:20160313T070000
END:DAYLIGHT
BEGIN:STANDARD
TZOFFSETFROM:-0400
TZOFFSETTO:-0500
TZNAME:EST
DTSTART:20161106T060000
END:STANDARD
END:VTIMEZONE
BEGIN:VEVENT
DTSTART;VALUE=DATE:20160707
DTEND;VALUE=DATE:20160715
DTSTAMP:20260420T184005
CREATED:20160226T074316Z
LAST-MODIFIED:20161019T210850Z
UID:834-1467849600-1468540799@patraminstitute.org
SUMMARY:Second Annual Summer Master Class in Russia
DESCRIPTION:The Holy Trinity-St. Sergius Lavra Podvorie Moscow is welcoming the 2nd Annual Master Class to take place Thursday\, July 7th – Thursday July 14th\, 2016! \nThe class offers the opportunity for both male and female singers to join the renown Podvorie Choir in the singing of the Vigil and Divine Liturgy of Saints Peter & Paul. \nAs guests of the Podvorie\, participants are given the opportunity to work with Maestro Vladimir Gorbik in an intensive workshop in Slavonic sacred choral music. Participants will enjoy daily intensive workshop sessions and available guided excursions to Moscow attractions and Sergiev Posad Lavra. The package includes double occupancy accommodations\, all meals\, tuition and materials. \nRead about the success of our first master class here. \nPreliminary Tour Schedule:  \n•Thursday July 7 – ALL ARRIVE MOSCOW (TRAVEL DAY-NOTHING MANDATORY- ON OWN FOR MEALS) \n•Friday July 8 – Orientation\, Moleben 10am-6pm Class/Rehearsal \n•Saturday July 9 – Free Morning\, Optional Liturgy\, Afternoon Rehearsal\, Optional Vigil \n•Sunday July 10 – Excursion to Sergiev Posad Lavra ALL DAY \n•Monday July 11 – All Day Rehearsal\, Sing Peter & Paul Vigil \n•Tuesday July 12 – Sing Peter & Paul Divine Liturgy\, Excursion Christ the Savior and Kremlin \n•Wednesday July 13 – Excursion to New Jerusalem Monastery \n•Thursday July 14 – ALL DEPART MOSCOW (TRAVEL DAY-NOTHING MANDATORY) \n  \nLimited scholarships for tuition costs are available. Airfare\, visa expenses and excursion fees excluded. Age 18+. Learn more about the cost breakdown and tuition cost here \nPrior to registering please download and complete all required documents: \n\nParticipant Agreement\nInternational Liability Agreement\nScholarship Requirements (if applicable)\nPlease contact Sanya Lukianov for scholarship requirement documents\nPassport Scan\nVisa Scan (if applicable)\n\nEvent Registration
URL:https://patraminstitute.org/event/second-annual-summer-master-class-in-russia-2016/
LOCATION:Holy Trinity – St. Sergius Lavra Podvorie Moscow\, Sergiev Posad\, Moscow\, Oblast\, 141300\, Russian Federation
CATEGORIES:Master Class
ATTACH;FMTTYPE=image/jpeg:https://patraminstitute.org/wp-content/uploads/2016/01/Andrew-Gould-DSC_2478-1-e1456471753500.jpg
ORGANIZER;CN="PaTRAM%20Institute%26trade%3B":MAILTO:info@patraminstitute.org
END:VEVENT
END:VCALENDAR