BEGIN:VCALENDAR
VERSION:2.0
PRODID:-//PaTRAM™ - ECPv6.0.10//NONSGML v1.0//EN
CALSCALE:GREGORIAN
METHOD:PUBLISH
X-WR-CALNAME:PaTRAM™
X-ORIGINAL-URL:https://patraminstitute.org
X-WR-CALDESC:Events for PaTRAM™
REFRESH-INTERVAL;VALUE=DURATION:PT1H
X-Robots-Tag:noindex
X-PUBLISHED-TTL:PT1H
BEGIN:VTIMEZONE
TZID:America/Chicago
BEGIN:DAYLIGHT
TZOFFSETFROM:-0600
TZOFFSETTO:-0500
TZNAME:CDT
DTSTART:20170312T080000
END:DAYLIGHT
BEGIN:STANDARD
TZOFFSETFROM:-0500
TZOFFSETTO:-0600
TZNAME:CST
DTSTART:20171105T070000
END:STANDARD
TZID:America/New_York
BEGIN:DAYLIGHT
TZOFFSETFROM:-0500
TZOFFSETTO:-0400
TZNAME:EDT
DTSTART:20170312T070000
END:DAYLIGHT
BEGIN:STANDARD
TZOFFSETFROM:-0400
TZOFFSETTO:-0500
TZNAME:EST
DTSTART:20171105T060000
END:STANDARD
END:VTIMEZONE
BEGIN:VEVENT
DTSTART;TZID=America/Chicago:20170621T120000
DTEND;TZID=America/Chicago:20170625T140000
DTSTAMP:20260420T201606
CREATED:20161129T040146Z
LAST-MODIFIED:20170530T205150Z
UID:1362-1498046400-1498399200@patraminstitute.org
SUMMARY:Advanced Conducting Master Class in Chicago\, IL
DESCRIPTION:ALL CONDUCTOR POSITIONS HAVE BEEN FILLED.  \nTHE APPLICATION DEADLINE EXTENDED TO JUNE 15th FOR CONDUCTOR/OBSERVER POSITONS!       See application requirements below. \n \nIn a uniquely designed format\, this Master Class will offer the experienced choir director a chance to work with a professional chamber choir and 3 hours of quality podium time under the guidance of Dr. Peter Jermihov– a dedicated master teacher and mentor. The class will culminate in a celebration of a full All-Night Vigil and Hierarchical Divine Liturgy officiated by Archbishop Peter of Chicago at the Pokrov Cathedral (ROCOR). Selected students will be given the opportunity to direct the choir at both Divine Services. The Master Class will open 8 seats for active conductors\, 4 women & 4 men\, who will receive intensive individual instruction\, and 20 seats for observer conductors\, who will receive full access to all 24 sessions and instruction in score analysis and preparation. Members of both categories of participants will be given a chance to audition for the choir (these auditions must take place before the dates of the Master Class). The class will be taught in English and Russian (as needed)\, and the repertoire will be sung in English and Church Slavonic. \nThe professionally-trained conductor\, in addition to acquiring manual conducting\, rehearsing\, and organizing skills\, must also excel at analyzing and preparing scores for performance. This aspect of a conductor’s training is often underemphasized or entirely omitted from the curriculum of study. What is the form of a piece of music\, how does the form breakdown into smaller phrases\, periods and sections\, what expressive markings does the composer employ\, what type of texture\, voice-leading and style are evident\, and what is the composer trying to accomplish?—are all questions a conductor must answer before he/she steps on the podium. After the analysis is done\, the score must be thoroughly marked and prepared for performance. There are various approaches to the discipline of analyzing and marking a conductor’s score\, and this Advanced Conducting Master Class offers the expertise and insights of Dr. Nicholas Reeves\, an accomplished Orthodox composer\, theorist\, and church musician. Dr. Reeves will work with both Active Conductors and Observers to help them understand analytical processes and develop effective and personalized habits of score preparation. Dr. Reeves’ involvement in the program is a unique feature of this Master Class\, and we are delighted to offer our participants a chance to grow as conductors and musicians.\n \nTake advantage of this unique learning opportunity and launch your conducting skills to a new level. \nLogistics update:\nPaTRAM has negotiated a special room rate for anyone interested in lodging for this event. The Hampton Inn\, Chicago North Loyola Station\, located at 1209 Albion Ave\, Chicago\, IL 60626\, (773) 508-3835\, under “PaTRAM Institute“\, at a daily rate of $169 + tax including breakfast daily. Rooms are being held at this rate until May 24th\, 2017. \nAll participants are responsible for their transportation to and from the airport and the hotel. PaTRAM will provide transportation to and from the hotel and the venues for all Conductor participants. \nThe following meals will be provided to all paid participants at the venues: \n.at St. Andrews – all lunches and one dinner on Thursday (late session) \n.at Holy Virgin Protection Cathedral – banquet lunch after Sunday services \n\nTerms and Conditions for Application for Conductor and Conductor/Observer (please read them carefully before applying)\nBy clicking on the “REGISTER FOR EVENT” button the applicant has agreed to the terms and conditions as stated: \nFor Conductor applicants ONLY – a $300\, non-refundable deposit is required to complete an application including all required documentation and file uploads. The application must be completed by April 1\, 2017 May 1\, 2017. The applicant will be notified if they are accepted\, on or by April 10\, 2017 May 10\, 2017\, at which time the balance of $550 must be paid. If the balance of $550 is not paid by April 15\, 2017 May 15\, 2017 the applicant will be denied acceptance and the position opened to the next applicant on the wait-list. If a Conductor applicant is not accepted into the master class\, he/she will receive the full refund of $300. In addition\, a Conductor applicant can apply as a volunteer singer in the master class choir. Choir volunteer applicants can apply on the Conductor application in the designated Choir Volunteer section. If accepted\, the Choir volunteer will be expected to sing as instructed by the master teacher. Conductor applicants are highly encouraged to audition for the master class choir. \nFor Conductor/Observer applicants ONLY\nA $250\, non-refundable payment is required to complete an application including all required documentation and file uploads. The application deadline for processing this applicant is May 31\, 2017 June 15th 2017. In addition\, a Conductor/Observer applicant can apply as a volunteer singer in the master class choir. Choir volunteer applicants can apply on the Conductor/Observer application in the designated Choir Volunteer section. If accepted\, the Choir volunteer will be expected to sing as instructed by the master teacher. Please make sure to provide ALL requested application requirements and disclaimers. \nFor ALL applicants \nYou must complete and sign the attached forms below PRIOR to entering the registration application as they will be mandatory file attachments required in the form. \nLiability release form:\nliability-release-form \nEvent release form: \nchicago-2017-master-class-event-release-form \n\nREGISTER FOR EVENT
URL:https://patraminstitute.org/event/advanced-conducting-master-class-in-chicago-il/
LOCATION:NJ
CATEGORIES:Master Class
ORGANIZER;CN="PaTRAM%20Institute%26trade%3B":MAILTO:info@patraminstitute.org
END:VEVENT
BEGIN:VEVENT
DTSTART;TZID=America/New_York:20170629T170000
DTEND;TZID=America/New_York:20170702T140000
DTSTAMP:20260420T201606
CREATED:20170210T164904Z
LAST-MODIFIED:20170418T010748Z
UID:1565-1498755600-1499004000@patraminstitute.org
SUMMARY:Master Class for Singers - South Florida
DESCRIPTION:BONUS REHEARSAL TIME ADDED ON THURSDAY\, JUNE 29th! \n \nPaTRAM Institute is very excited to announce a special opportunity to work in the US with Maestro Vladimir Gorbik in June of 2017. The maestro will lead a workshop for orthodox singers at the St. Matrona Cathedral in Dania Beach (near Fort Lauderdale)\, Florida. Vladimir Gorbik is the world-famous choirmaster at the Holy Trinity Troitsa-Sergiev Lavra Podvorie in Moscow and associate professor of conducting at the Moscow Conservatory. \n \n  \nThe event will be held from Thursday evening\, June 29th through Sunday afternoon\, July 2nd at the St. Matrona Cathedral and culminates in singing the hierarchical All Night Vigil and Divine Liturgy celebrated by Bishop Theodosy of Seattle. \nStudents are responsible for their transportation and lodging during the event. PaTRAM event planners will notify all applicants of available\, discounted lodging near St. Matrona. \nTuition: $300 (includes several meals). \nThe schedule for this event is: \nThursday\, June 29:\n5-6pm Registration\n6:30-6:50pm Molebin \n7-9pm – Rehearsal (added bonus time) \nFriday\, June 30:\n10am-5pm Rehearsal \nSaturday\, July 1:\n2-4:30pm Rehearsal;\n5-7:30pm Hierarchical All Night Vigil \nSunday\, July 2:\n10am-12:30pm Hierarchical Divine Liturgy;\nCelebration Banquet at Church Hall after Liturgy \nRead the Q&A with Maestro Gorbik and learn more about this special event =>  Gorbik Q&A \n\nTerms and Conditions for Application to Singers Master Class (Please read carefully before applying)\nBy clicking on the “REGISTER FOR EVENT” button the applicant has agreed to the terms and conditions as stated: \nApplicants are solely responsible for getting to and from St. Matrona Cathedral for the duration of the event. \nApplicants are also responsible for their own travel and lodging for this event including\, if applicable\, getting to and from local airports and getting to and from their lodging location. \nApplicants are responsible for any meals not provided by the event planners. \nCancellation Policy \nFrom registration date thru April 1st\, 2017: Full Refund will be issued. \nFrom April 2nd\, 2017 thru May 31st\, 2017: 50% Refund will be issued. \nAfter June 1st\, 2017: NO REFUNDS. \n  \nPlease print\, sign and scan into a file the following forms\, as they will be required to be uploaded in the registration process. \nLiability release form:\nliability-release-form_st-matrona \nEvent release form: \nevent-release-form_st-matrona \n\nREGISTER FOR EVENT
URL:https://patraminstitute.org/event/master-class-for-singers-south-florida/
LOCATION:St. Matrona Cathedral\, 113 S Federal Hwy\, Dania Beach\, FL\, 33004\, United States
CATEGORIES:Master Class
ORGANIZER;CN="PaTRAM%20Institute%26trade%3B":MAILTO:info@patraminstitute.org
END:VEVENT
END:VCALENDAR